BEGIN:VCALENDAR
VERSION:2.0
PRODID:-//ACE - America&#039;s Cutting Edge - ECPv6.9.0//NONSGML v1.0//EN
CALSCALE:GREGORIAN
METHOD:PUBLISH
X-WR-CALNAME:ACE - America&#039;s Cutting Edge
X-ORIGINAL-URL:https://www.americascuttingedge.org
X-WR-CALDESC:Events for ACE - America&#039;s Cutting Edge
REFRESH-INTERVAL;VALUE=DURATION:PT1H
X-Robots-Tag:noindex
X-PUBLISHED-TTL:PT1H
BEGIN:VTIMEZONE
TZID:UTC
BEGIN:STANDARD
TZOFFSETFROM:+0000
TZOFFSETTO:+0000
TZNAME:UTC
DTSTART:20260101T000000
END:STANDARD
END:VTIMEZONE
BEGIN:VEVENT
DTSTART;TZID=UTC:20260329T000000
DTEND;TZID=UTC:20260329T235959
DTSTAMP:20260421T090028
CREATED:20260203T171635Z
LAST-MODIFIED:20260203T171636Z
UID:10000251-1774742400-1774828799@www.americascuttingedge.org
SUMMARY:Alamance Community College hosting metrology bootcamp
DESCRIPTION:Alamance Community College in Graham\, NC\, will host a metrology bootcamp March 29. Completion of the online ACE Metrology course is required for bootcamp admittance. Click here to register for the online course. \n\n\n\nMore information and bootcamp registration can be found here.
URL:https://www.americascuttingedge.org/event/alamance-community-college-hosting-metrology-bootcamp-3/
LOCATION:Alamance Community College\, Graham\, NC\, United States
CATEGORIES:Metrology
ATTACH;FMTTYPE=image/png:https://www.americascuttingedge.org/wp-content/uploads/2024/08/ACC_Logo.png
END:VEVENT
END:VCALENDAR