BEGIN:VCALENDAR
VERSION:2.0
PRODID:-//ACE - America&#039;s Cutting Edge - ECPv6.9.0//NONSGML v1.0//EN
CALSCALE:GREGORIAN
METHOD:PUBLISH
X-ORIGINAL-URL:https://www.americascuttingedge.org
X-WR-CALDESC:Events for ACE - America&#039;s Cutting Edge
REFRESH-INTERVAL;VALUE=DURATION:PT1H
X-Robots-Tag:noindex
X-PUBLISHED-TTL:PT1H
BEGIN:VTIMEZONE
TZID:UTC
BEGIN:STANDARD
TZOFFSETFROM:+0000
TZOFFSETTO:+0000
TZNAME:UTC
DTSTART:20260101T000000
END:STANDARD
END:VTIMEZONE
BEGIN:VEVENT
DTSTART;TZID=UTC:20260402T000000
DTEND;TZID=UTC:20260403T235959
DTSTAMP:20260421T083748
CREATED:20260219T164254Z
LAST-MODIFIED:20260219T164255Z
UID:10000273-1775088000-1775260799@www.americascuttingedge.org
SUMMARY:Marshall Advanced Manufacturing Center hosting CNC machining bootcamp
DESCRIPTION:Marshall Advanced Manufacturing Center in South Charleston\, WV\, will host a CNC machining bootcamp March 26-27 and April 2-3. Completion an online ACE CNC Machining course is required for bootcamp admittance. Click here to register for an online course. \n\n\n\nMore information and bootcamp registration can be found here.
URL:https://www.americascuttingedge.org/event/marshall-advanced-manufacturing-center-hosting-cnc-machining-bootcamp-6/2026-04-02/
LOCATION:Marshall Advanced Manufacturing Center (South Charleston)\, 100 Angus E. Peyton Drive\, South Charleston\, West Virginia\, 25303\, United States
CATEGORIES:CNC machining
ATTACH;FMTTYPE=image/png:https://www.americascuttingedge.org/wp-content/uploads/2023/05/AMC_Logo_Black_Two-1.png
END:VEVENT
END:VCALENDAR