BEGIN:VCALENDAR
VERSION:2.0
PRODID:-//ACE - America&#039;s Cutting Edge - ECPv6.9.0//NONSGML v1.0//EN
CALSCALE:GREGORIAN
METHOD:PUBLISH
X-WR-CALNAME:ACE - America&#039;s Cutting Edge
X-ORIGINAL-URL:https://www.americascuttingedge.org
X-WR-CALDESC:Events for ACE - America&#039;s Cutting Edge
REFRESH-INTERVAL;VALUE=DURATION:PT1H
X-Robots-Tag:noindex
X-PUBLISHED-TTL:PT1H
BEGIN:VTIMEZONE
TZID:UTC
BEGIN:STANDARD
TZOFFSETFROM:+0000
TZOFFSETTO:+0000
TZNAME:UTC
DTSTART:20260101T000000
END:STANDARD
END:VTIMEZONE
BEGIN:VEVENT
DTSTART;TZID=UTC:20260420T000000
DTEND;TZID=UTC:20260424T235959
DTSTAMP:20260423T084329
CREATED:20260217T152409Z
LAST-MODIFIED:20260217T152411Z
UID:10000266-1776643200-1777075199@www.americascuttingedge.org
SUMMARY:Champions Machine Tool hosting CNC machining bootcamp
DESCRIPTION:Champions Machine Tool in Spring\, TX\, will host a CNC machining bootcamp April 20-24. Completion of an online ACE CNC Machining course is required for bootcamp admittance. Click here to register for an online course. \n\n\n\nMore information and bootcamp registration can be found here.
URL:https://www.americascuttingedge.org/event/champions-machine-tool-hosting-cnc-machining-bootcamp-16/
LOCATION:Champions Machine Tool\, 1151 E. Cypresswood\, Spring\, Texas\, 77373\, United States
CATEGORIES:CNC machining
ATTACH;FMTTYPE=image/png:https://www.americascuttingedge.org/wp-content/uploads/2024/09/Champions-logo.png
END:VEVENT
END:VCALENDAR