BEGIN:VCALENDAR
VERSION:2.0
PRODID:-//ACE - America&#039;s Cutting Edge - ECPv6.9.0//NONSGML v1.0//EN
CALSCALE:GREGORIAN
METHOD:PUBLISH
X-ORIGINAL-URL:https://www.americascuttingedge.org
X-WR-CALDESC:Events for ACE - America&#039;s Cutting Edge
REFRESH-INTERVAL;VALUE=DURATION:PT1H
X-Robots-Tag:noindex
X-PUBLISHED-TTL:PT1H
BEGIN:VTIMEZONE
TZID:UTC
BEGIN:STANDARD
TZOFFSETFROM:+0000
TZOFFSETTO:+0000
TZNAME:UTC
DTSTART:20240101T000000
END:STANDARD
END:VTIMEZONE
BEGIN:VEVENT
DTSTART;TZID=UTC:20251215T000000
DTEND;TZID=UTC:20251219T235959
DTSTAMP:20260421T090827
CREATED:20251003T160830Z
LAST-MODIFIED:20251003T160831Z
UID:10000211-1765756800-1766188799@www.americascuttingedge.org
SUMMARY:North Carolina A&T hosting youth CNC machining bootcamp
DESCRIPTION:North Carolina Agricultural and Technical State University in Greensboro\, NC\, will host a youth CNC machining bootcamp Dec. 15-19. Completion of an online ACE CNC Machining course is required for bootcamp admittance. Click here to register for an online course. \n\n\n\nMore information and bootcamp registration can be found here.
URL:https://www.americascuttingedge.org/event/north-carolina-at-hosting-youth-cnc-machining-bootcamp/
LOCATION:North Carolina Agricultural & Technical State University\, Greensboro\, NC\, 27411\, United States
CATEGORIES:CNC machining
ATTACH;FMTTYPE=image/png:https://www.americascuttingedge.org/wp-content/uploads/2024/08/AT-logo.png
END:VEVENT
BEGIN:VEVENT
DTSTART;TZID=UTC:20250519T000000
DTEND;TZID=UTC:20250523T235959
DTSTAMP:20260421T090827
CREATED:20250204T195701Z
LAST-MODIFIED:20250204T195702Z
UID:10000096-1747612800-1748044799@www.americascuttingedge.org
SUMMARY:North Carolina A&T hosting CNC machining bootcamp
DESCRIPTION:North Carolina Agricultural and Technical State University in Greensboro\, NC\, will host a CNC machining bootcamp May 19-23. Completion of the online ACE CNC Machining course (Fusion 360 pathway) is required for bootcamp admittance. Click here to register. \n\n\n\nMore information can be found here.
URL:https://www.americascuttingedge.org/event/north-carolina-at-hosting-cnc-machining-bootcamp/
LOCATION:North Carolina Agricultural & Technical State University\, Greensboro\, NC\, 27411\, United States
CATEGORIES:CNC machining
ATTACH;FMTTYPE=image/png:https://www.americascuttingedge.org/wp-content/uploads/2024/08/AT-logo.png
END:VEVENT
BEGIN:VEVENT
DTSTART;TZID=UTC:20241216T000000
DTEND;TZID=UTC:20241219T235959
DTSTAMP:20260421T090827
CREATED:20240807T185717Z
LAST-MODIFIED:20240807T185718Z
UID:10000024-1734307200-1734652799@www.americascuttingedge.org
SUMMARY:North Carolina A&T State University hosting CNC machining bootcamp
DESCRIPTION:North Carolina Agricultural and Technical State University in Greensboro\, NC\, will host a CNC machining bootcamp Dec. 16-19. Completion of the online ACE CNC Machining course (Fusion 360 pathway) is required for bootcamp admittance. Click here to register. \n\n\n\nMore information can be found here.
URL:https://www.americascuttingedge.org/event/north-carolina-at-state-university-hosting-cnc-machining-bootcamp-2/
LOCATION:North Carolina Agricultural & Technical State University\, Greensboro\, NC\, 27411\, United States
CATEGORIES:CNC machining
ATTACH;FMTTYPE=image/png:https://www.americascuttingedge.org/wp-content/uploads/2024/08/AT-logo.png
END:VEVENT
END:VCALENDAR