BEGIN:VCALENDAR
VERSION:2.0
PRODID:-//ACE - America&#039;s Cutting Edge - ECPv6.9.0//NONSGML v1.0//EN
CALSCALE:GREGORIAN
METHOD:PUBLISH
X-WR-CALNAME:ACE - America&#039;s Cutting Edge
X-ORIGINAL-URL:https://www.americascuttingedge.org
X-WR-CALDESC:Events for ACE - America&#039;s Cutting Edge
REFRESH-INTERVAL;VALUE=DURATION:PT1H
X-Robots-Tag:noindex
X-PUBLISHED-TTL:PT1H
BEGIN:VTIMEZONE
TZID:UTC
BEGIN:STANDARD
TZOFFSETFROM:+0000
TZOFFSETTO:+0000
TZNAME:UTC
DTSTART:20240101T000000
END:STANDARD
END:VTIMEZONE
BEGIN:VEVENT
DTSTART;TZID=UTC:20241209T000000
DTEND;TZID=UTC:20241213T235959
DTSTAMP:20260422T115046
CREATED:20241016T124624Z
LAST-MODIFIED:20241016T124625Z
UID:10000078-1733702400-1734134399@www.americascuttingedge.org
SUMMARY:Southwestern Illinois College hosting CNC machining bootcamp
DESCRIPTION:Southwestern Illinois College in Belleville\, IL\, will host a CNC machining bootcamp Dec. 9-13. Completion of the online ACE CNC Machining course (Fusion 360 pathway) is required for bootcamp admittance. Click here to register. \n\n\n\nFor more information\, contact David Berry\, david.berry@swic.edu.
URL:https://www.americascuttingedge.org/event/southwestern-illinois-college-hosting-cnc-machining-bootcamp-2/
LOCATION:Southwestern Illinois College\, United States
CATEGORIES:CNC machining
ATTACH;FMTTYPE=image/jpeg:https://www.americascuttingedge.org/wp-content/uploads/2024/07/2-color_no-white_swic_vertical_web.jpg
END:VEVENT
BEGIN:VEVENT
DTSTART;TZID=UTC:20240805T000000
DTEND;TZID=UTC:20240809T235959
DTSTAMP:20260422T115046
CREATED:20240805T164258Z
LAST-MODIFIED:20240805T164259Z
UID:10000023-1722816000-1723247999@www.americascuttingedge.org
SUMMARY:Southwestern Illinois College hosting CNC machining bootcamp
DESCRIPTION:Southwestern Illinois College in Belleville\, IL\, will host a CNC machining bootcamp Aug. 5-9. Completion of the online ACE CNC Machining course (Fusion 360 pathway) is required for bootcamp admittance. Click here to register.
URL:https://www.americascuttingedge.org/event/southwestern-illinois-college-hosting-cnc-machining-bootcamp/
LOCATION:Southwestern Illinois College\, United States
CATEGORIES:CNC machining
ATTACH;FMTTYPE=image/jpeg:https://www.americascuttingedge.org/wp-content/uploads/2024/07/2-color_no-white_swic_vertical_web.jpg
END:VEVENT
END:VCALENDAR